BEGIN:VCALENDAR
VERSION:2.0
PRODID:-//TALMAR - ECPv6.15.20//NONSGML v1.0//EN
CALSCALE:GREGORIAN
METHOD:PUBLISH
X-WR-CALNAME:TALMAR
X-ORIGINAL-URL:https://talmar.org
X-WR-CALDESC:Events for TALMAR
REFRESH-INTERVAL;VALUE=DURATION:PT1H
X-Robots-Tag:noindex
X-PUBLISHED-TTL:PT1H
BEGIN:VTIMEZONE
TZID:UTC
BEGIN:STANDARD
TZOFFSETFROM:+0000
TZOFFSETTO:+0000
TZNAME:UTC
DTSTART:20210101T000000
END:STANDARD
END:VTIMEZONE
BEGIN:VEVENT
DTSTART;TZID=UTC:20220924T120000
DTEND;TZID=UTC:20220924T180000
DTSTAMP:20260422T064601
CREATED:20220802T174128Z
LAST-MODIFIED:20220802T174128Z
UID:4848-1664020800-1664042400@talmar.org
SUMMARY:Gingham & Gazpacho picnic
DESCRIPTION:
URL:https://talmar.org/event/gingham-gazpacho-picnic-2/
LOCATION:TALMAR\, 1994 Cromwell Bridge Rd\, Baltimore\, MD\, 21234\, United States
END:VEVENT
END:VCALENDAR