BEGIN:VCALENDAR
VERSION:2.0
PRODID:-//TALMAR - ECPv6.15.20//NONSGML v1.0//EN
CALSCALE:GREGORIAN
METHOD:PUBLISH
X-WR-CALNAME:TALMAR
X-ORIGINAL-URL:https://talmar.org
X-WR-CALDESC:Events for TALMAR
REFRESH-INTERVAL;VALUE=DURATION:PT1H
X-Robots-Tag:noindex
X-PUBLISHED-TTL:PT1H
BEGIN:VTIMEZONE
TZID:America/New_York
BEGIN:DAYLIGHT
TZOFFSETFROM:-0500
TZOFFSETTO:-0400
TZNAME:EDT
DTSTART:20180311T070000
END:DAYLIGHT
BEGIN:STANDARD
TZOFFSETFROM:-0400
TZOFFSETTO:-0500
TZNAME:EST
DTSTART:20181104T060000
END:STANDARD
BEGIN:DAYLIGHT
TZOFFSETFROM:-0500
TZOFFSETTO:-0400
TZNAME:EDT
DTSTART:20190310T070000
END:DAYLIGHT
BEGIN:STANDARD
TZOFFSETFROM:-0400
TZOFFSETTO:-0500
TZNAME:EST
DTSTART:20191103T060000
END:STANDARD
BEGIN:DAYLIGHT
TZOFFSETFROM:-0500
TZOFFSETTO:-0400
TZNAME:EDT
DTSTART:20200308T070000
END:DAYLIGHT
BEGIN:STANDARD
TZOFFSETFROM:-0400
TZOFFSETTO:-0500
TZNAME:EST
DTSTART:20201101T060000
END:STANDARD
BEGIN:DAYLIGHT
TZOFFSETFROM:-0500
TZOFFSETTO:-0400
TZNAME:EDT
DTSTART:20210314T070000
END:DAYLIGHT
BEGIN:STANDARD
TZOFFSETFROM:-0400
TZOFFSETTO:-0500
TZNAME:EST
DTSTART:20211107T060000
END:STANDARD
BEGIN:DAYLIGHT
TZOFFSETFROM:-0500
TZOFFSETTO:-0400
TZNAME:EDT
DTSTART:20220313T070000
END:DAYLIGHT
BEGIN:STANDARD
TZOFFSETFROM:-0400
TZOFFSETTO:-0500
TZNAME:EST
DTSTART:20221106T060000
END:STANDARD
BEGIN:DAYLIGHT
TZOFFSETFROM:-0500
TZOFFSETTO:-0400
TZNAME:EDT
DTSTART:20230312T070000
END:DAYLIGHT
BEGIN:STANDARD
TZOFFSETFROM:-0400
TZOFFSETTO:-0500
TZNAME:EST
DTSTART:20231105T060000
END:STANDARD
END:VTIMEZONE
BEGIN:VTIMEZONE
TZID:UTC
BEGIN:STANDARD
TZOFFSETFROM:+0000
TZOFFSETTO:+0000
TZNAME:UTC
DTSTART:20210101T000000
END:STANDARD
END:VTIMEZONE
BEGIN:VEVENT
DTSTART;TZID=America/New_York:20221125T120000
DTEND;TZID=America/New_York:20221125T140000
DTSTAMP:20260421T180409
CREATED:20221116T213007Z
LAST-MODIFIED:20221116T213217Z
UID:4893-1669377600-1669384800@talmar.org
SUMMARY:Santa and a low-sensory environment
DESCRIPTION:Santa is excited to see adults and children who prefer a low-sensory environment. Families register for FREE visits with Santa who sits on a two-person sofa. Visitors can sit or stand next to Santa and discuss Christmas wishes. Santa has worked extensively with adults and children with disabilities and is looking forward to seeing them at TALMAR. Families are encouraged to take photos. \n  \nRegister for a visit on Eventbrite.
URL:https://talmar.org/event/santa-and-a-low-sensory-environment/
LOCATION:MD
END:VEVENT
BEGIN:VEVENT
DTSTART;TZID=UTC:20220924T120000
DTEND;TZID=UTC:20220924T180000
DTSTAMP:20260421T180409
CREATED:20220802T174128Z
LAST-MODIFIED:20220802T174128Z
UID:4848-1664020800-1664042400@talmar.org
SUMMARY:Gingham & Gazpacho picnic
DESCRIPTION:
URL:https://talmar.org/event/gingham-gazpacho-picnic-2/
LOCATION:TALMAR\, 1994 Cromwell Bridge Rd\, Baltimore\, MD\, 21234\, United States
END:VEVENT
BEGIN:VEVENT
DTSTART;TZID=UTC:20220617T110000
DTEND;TZID=UTC:20220617T120000
DTSTAMP:20260421T180409
CREATED:20220218T144033Z
LAST-MODIFIED:20220607T212322Z
UID:4804-1655463600-1655467200@talmar.org
SUMMARY:Nature Memory Cafe
DESCRIPTION:To register\, click link to the right: Memory Cafe registration (google.com)\nNature memory cafe (3)\n 
URL:https://talmar.org/event/nature-memory-cafe/
LOCATION:TALMAR\, 1994 Cromwell Bridge Rd\, Baltimore\, MD\, 21234\, United States
CATEGORIES:Memory Cafe
END:VEVENT
BEGIN:VEVENT
DTSTART;VALUE=DATE:20220422
DTEND;VALUE=DATE:20220430
DTSTAMP:20260421T180409
CREATED:20210116T204505Z
LAST-MODIFIED:20220422T145107Z
UID:4533-1650585600-1651276799@talmar.org
SUMMARY:TALMAR Annual Spring Plant Sale-Online Event
DESCRIPTION:  \nTALMAR Annual Spring Plant Sale \nVegetable Starts and Herbs \nLive Shopping:  \nhttps://talmar.square.site/ \nONLINE SALES WILL BE AVAILABLE FOR PICKUP FIRST WEEK OF MAY \nContact: talmar@talmar.org \n 
URL:https://talmar.org/event/talmar-annual-spring-plant-sale/
LOCATION:TALMAR\, 1994 Cromwell Bridge Rd\, Baltimore\, MD\, 21234\, United States
END:VEVENT
BEGIN:VEVENT
DTSTART;TZID=America/New_York:20220319T110000
DTEND;TZID=America/New_York:20220319T130000
DTSTAMP:20260421T180409
CREATED:20220209T161218Z
LAST-MODIFIED:20220209T161218Z
UID:4794-1647687600-1647694800@talmar.org
SUMMARY:Rain Barrel Workshop and Sale
DESCRIPTION:Workshop Registration Link: https://interland3.donorperfect.net/weblink/weblink.aspx?name=E230760&id=522 \nRain Barrel Curbside Pick-up Link: https://interland3.donorperfect.net/weblink/weblink.aspx?name=E230760&id=523 \n2022-03 Rain Barrel flyer
URL:https://talmar.org/event/rain-barrel-workshop-and-sale/
LOCATION:TALMAR\, 1994 Cromwell Bridge Rd\, Baltimore\, MD\, 21234\, United States
END:VEVENT
BEGIN:VEVENT
DTSTART;TZID=America/New_York:20211204T100000
DTEND;TZID=America/New_York:20211205T170000
DTSTAMP:20260421T180409
CREATED:20211122T150337Z
LAST-MODIFIED:20211204T115446Z
UID:4741-1638612000-1638723600@talmar.org
SUMMARY:Christmas Tree sale
DESCRIPTION:TALMAR tree sale
URL:https://talmar.org/event/christmas-tree-sale/
LOCATION:TALMAR\, 1994 Cromwell Bridge Rd\, Baltimore\, MD\, 21234\, United States
END:VEVENT
BEGIN:VEVENT
DTSTART;TZID=America/New_York:20211122T080000
DTEND;TZID=America/New_York:20211125T235900
DTSTAMP:20260421T180409
CREATED:20211122T164615Z
LAST-MODIFIED:20211122T164615Z
UID:4748-1637568000-1637884740@talmar.org
SUMMARY:Wine Auction
DESCRIPTION:Thanks to generous wine donors and the talent of a creative sewist\, we have rare wines and cocktail napkins and wine carriers to help you celebrate the holidays and toast to a new year!! Proceeds benefit TALMAR’s mission to enhance health for people of all ages and abilities through horticulture. \nAll goods must be picked up at TALMAR during the Christmas Tree Sale (11/26-11/28). Wines can only be purchased by adults 21 and over. \n 
URL:https://talmar.org/event/wine-auction/
LOCATION:MD
END:VEVENT
BEGIN:VEVENT
DTSTART;TZID=America/New_York:20210925T120000
DTEND;TZID=America/New_York:20210925T180000
DTSTAMP:20260421T180409
CREATED:20210804T153606Z
LAST-MODIFIED:20210804T153606Z
UID:4674-1632571200-1632592800@talmar.org
SUMMARY:Gingham & Gazpacho picnic
DESCRIPTION:TALMAR’s second annual Gingham & Gazpacho picnic is a chance to pack your favorite foods\, a good blanket and eat al fresco on TALMAR’s campus. Participate in an activity\, see what vegetables are ripe\, and soak in the waning days of summer. \n  \nCost: $5 per car. Parking spaces can be reserved in advance.
URL:https://talmar.org/event/gingham-gazpacho-picnic/
LOCATION:TALMAR\, 1994 Cromwell Bridge Rd\, Baltimore\, MD\, 21234\, United States
END:VEVENT
BEGIN:VEVENT
DTSTART;TZID=America/New_York:20210818T173000
DTEND;TZID=America/New_York:20210818T183000
DTSTAMP:20260421T180409
CREATED:20210804T153549Z
LAST-MODIFIED:20210804T153549Z
UID:4676-1629307800-1629311400@talmar.org
SUMMARY:Basic Flower Arrangements in ASL
DESCRIPTION:Learn the basics of flower arranging using fresh cut flowers at TALMAR. The program will be taught in American Sign Language
URL:https://talmar.org/event/basic-flower-arrangements-in-asl/
LOCATION:MD
END:VEVENT
BEGIN:VEVENT
DTSTART;TZID=America/New_York:20210427T120000
DTEND;TZID=America/New_York:20210430T150000
DTSTAMP:20260421T180409
CREATED:20210426T162051Z
LAST-MODIFIED:20210426T162051Z
UID:4659-1619524800-1619794800@talmar.org
SUMMARY:Walk Up Plant Sale
DESCRIPTION:We still have a good selection of tomatoes\, peppers\, and herbs.  Walk up and order on site\, or you can order online and email us when you are coming to pick up plants and we will have it ready with your name set outside the greenhouse to pick up.  Go to our sale site:  https://talmar.square.site \nSale This Week! \nTuesday 12-3pm                    Wednesday 12-3pm                    Thursday 12-3pm                            Friday 12-3pm
URL:https://talmar.org/event/walk-up-plant-sale/
LOCATION:MD
END:VEVENT
BEGIN:VEVENT
DTSTART;VALUE=DATE:20210401
DTEND;VALUE=DATE:20210402
DTSTAMP:20260421T180409
CREATED:20210116T204422Z
LAST-MODIFIED:20210219T150751Z
UID:4530-1617235200-1617321599@talmar.org
SUMMARY:VAFARMS 2021 Sustainable Agriculture Program
DESCRIPTION:EVENT:   VAFARMS 2021 Sustainable Agriculture Program\nStart Date:  April  5th 2021 \nFor more information or to register for the 2021 program contact: VAMHCS Mental Health Clinic Center: Vocational Rehabilitation Services Program Support  410-642–2411  EXT.  5821 \nor \nPsychosocial Rehabilitation and Recovery Center ( PRRC)  410-642–2411EXT.5678
URL:https://talmar.org/event/vafarms-2021-sustainable-agriculture-program-registration/
LOCATION:TALMAR\, 1994 Cromwell Bridge Rd\, Baltimore\, MD\, 21234\, United States
END:VEVENT
BEGIN:VEVENT
DTSTART;VALUE=DATE:20200609
DTEND;VALUE=DATE:20200610
DTSTAMP:20260421T180409
CREATED:20200219T170928Z
LAST-MODIFIED:20200219T170928Z
UID:4196-1591660800-1591747199@talmar.org
SUMMARY:2020 Produce CSA Kickoff
DESCRIPTION:Give yourself and your loved ones the gift of farm fresh local vegetables. Sign up today!\nhttps://forms.gle/fW68W3gcgg3Dd4fYA
URL:https://talmar.org/event/2020-produce-csa-kickoff/
LOCATION:MD
ATTACH;FMTTYPE=image/png:https://talmar.org/wp-content/uploads/2020/02/83975132_1481716078660404_7184767218557648896_n.png
END:VEVENT
BEGIN:VEVENT
DTSTART;VALUE=DATE:20200425
DTEND;VALUE=DATE:20200426
DTSTAMP:20260421T180409
CREATED:20200219T144148Z
LAST-MODIFIED:20200416T204628Z
UID:4187-1587772800-1587859199@talmar.org
SUMMARY:Online Spring Vegetable and Herb Sale
DESCRIPTION:TALMAR invites you to purchase your spring vegetables and herbs from us. Curbside pick-up will take place on April 25th at TALMAR. \nClick here for online sale\nYour purchase supports our mission to serve individuals with disabilities.
URL:https://talmar.org/event/spring-plant-sale/
LOCATION:TALMAR\, 1994 Cromwell Bridge Rd\, Baltimore\, MD\, 21234\, United States
ATTACH;FMTTYPE=image/jpeg:https://talmar.org/wp-content/uploads/2020/02/download.jpg
END:VEVENT
BEGIN:VEVENT
DTSTART;TZID=America/New_York:20200223T130000
DTEND;TZID=America/New_York:20200223T160000
DTSTAMP:20260421T180409
CREATED:20200219T165013Z
LAST-MODIFIED:20200219T165013Z
UID:4191-1582462800-1582473600@talmar.org
SUMMARY:Second Annual CSA Fair
DESCRIPTION:Interested in joining a CSA this year? Want to learn more about our local farmers and makers? \nJoin us for our 2nd Annual CSA Fair in UNION Hall at UNION Craft Brewing on Sunday\, February 23rd from 1:00-4:00 p.m. If you sign up for a CSA that day\, Well Crafted Kitchen will treat you to 50% off a pizza! ? \nA sampling of the Farmers you will have the opportunity to meet:\nGood Dog Farm\nCrooked Fence Farm\nSpore and Seed\nTALMAR\nOne Straw Farm\nMoon Valley Farm\nOak Spring Farm\nLiberty Delight Farms\nReal Food Farm \nSo excited to see you all soon! \n\n 
URL:https://talmar.org/event/second-annual-csa-fair/
LOCATION:Well Crafted Kitchen\, 1700 W 41st St\, Baltimore\, MD\, 21211\, United States
ATTACH;FMTTYPE=image/jpeg:https://talmar.org/wp-content/uploads/2020/02/85194510_2864516026997754_3670623211738890240_o.jpg
END:VEVENT
BEGIN:VEVENT
DTSTART;TZID=America/New_York:20200203T173000
DTEND;TZID=America/New_York:20200203T183000
DTSTAMP:20260421T180409
CREATED:20200114T192514Z
LAST-MODIFIED:20200114T192514Z
UID:4169-1580751000-1580754600@talmar.org
SUMMARY:Local Bouquets & Local beer
DESCRIPTION:
URL:https://talmar.org/event/local-bouquets-local-beer/
LOCATION:Full Tilt Brewery\, 5604 York Rd\, Baltimore\, MD\, 21212\, United States
ATTACH;FMTTYPE=image/jpeg:https://talmar.org/wp-content/uploads/2020/01/IMG_1146.jpg
END:VEVENT
BEGIN:VEVENT
DTSTART;TZID=America/New_York:20191214T100000
DTEND;TZID=America/New_York:20191214T120000
DTSTAMP:20260421T180409
CREATED:20190903T153045Z
LAST-MODIFIED:20191105T204447Z
UID:4114-1576317600-1576324800@talmar.org
SUMMARY:DIY Christmas Ornaments
DESCRIPTION:DIY Christmas Ornaments\nFacilitator: Tanya Ray\n\nDate: Nov 30\, Dec 7 and 14\n\nTime: 9am-12pm Drop-In\nAges: 3 and older\n\nCost:  $3 per individual/$5 for 2 individuals  \nLocation: 1994 Cromwell Bridge Road  (inside of the greenhouse)
URL:https://talmar.org/event/diy-christmas-ornaments-3/
LOCATION:MD
END:VEVENT
BEGIN:VEVENT
DTSTART;TZID=America/New_York:20191207T100000
DTEND;TZID=America/New_York:20191207T120000
DTSTAMP:20260421T180409
CREATED:20190903T152958Z
LAST-MODIFIED:20191105T204223Z
UID:4112-1575712800-1575720000@talmar.org
SUMMARY:DIY Christmas Ornaments
DESCRIPTION:DIY Christmas Ornaments\nFacilitator: Tanya Ray\n\nDate: Nov 30\, Dec 7 and 14\n\nTime: 9am-12pm Drop-In\nAges: 3 and older\n\nCost:  $3 per individual/$5 for 2 individuals  \nLocation: 1994 Cromwell Bridge Road  (inside of the greenhouse)
URL:https://talmar.org/event/diy-christmas-ornaments-2/
LOCATION:MD
END:VEVENT
BEGIN:VEVENT
DTSTART;TZID=America/New_York:20191130T130000
DTEND;TZID=America/New_York:20191130T150000
DTSTAMP:20260421T180409
CREATED:20190903T152643Z
LAST-MODIFIED:20191119T181237Z
UID:4106-1575118800-1575126000@talmar.org
SUMMARY:Wreath Making Workshop
DESCRIPTION:Wreath Making Workshop\nCost includes instructor and all materials (wreath rings\, greens\, decorations and large bow).\nAges 10 and older.\nFacilitator: TALMAR staff\nDate: Nov 30\nTime: 1pm-3pm\n\nAges 10 and older\nCost: $45 per person\nLocation: 1994 Cromwell Bridge Road  (inside of the greenhouse)
URL:https://talmar.org/event/wreath-making-workshop/
LOCATION:MD
END:VEVENT
BEGIN:VEVENT
DTSTART;TZID=America/New_York:20191130T120000
DTEND;TZID=America/New_York:20191130T150000
DTSTAMP:20260421T180409
CREATED:20191108T181838Z
LAST-MODIFIED:20191108T181838Z
UID:4127-1575115200-1575126000@talmar.org
SUMMARY:Sensory-Friendly Experience with Santa
DESCRIPTION:
URL:https://talmar.org/event/sensory-friendly-experience-with-santa/
LOCATION:TALMAR\, 1994 Cromwell Bridge Rd\, Baltimore\, MD\, 21234\, United States
END:VEVENT
BEGIN:VEVENT
DTSTART;TZID=America/New_York:20191130T100000
DTEND;TZID=America/New_York:20191130T120000
DTSTAMP:20260421T180409
CREATED:20190903T152909Z
LAST-MODIFIED:20191105T205054Z
UID:4110-1575108000-1575115200@talmar.org
SUMMARY:DIY Christmas Ornaments
DESCRIPTION:DIY Christmas Ornaments\nFacilitator: Tanya Ray\n\nDate: Nov 30\, Dec 7 and 14\n\nTime: 9am-12pm Drop-In\nAges: 3 and older\n\nCost:  $3 per individual/$5 for 2 individuals  \nLocation: 1994 Cromwell Bridge Road  (inside of the greenhouse)
URL:https://talmar.org/event/diy-christmas-ornaments/
LOCATION:MD
END:VEVENT
BEGIN:VEVENT
DTSTART;TZID=America/New_York:20191123T100000
DTEND;TZID=America/New_York:20191123T120000
DTSTAMP:20260421T180409
CREATED:20190903T152348Z
LAST-MODIFIED:20190903T152348Z
UID:4104-1574503200-1574510400@talmar.org
SUMMARY:Thanksgiving Crafts for Kids
DESCRIPTION:Thanksgiving Crafts for Kids\nPine Cone Turkey\nFacilitator: Tanya Ray\nDate: November 23\nTime: 10am-12pm\n\nDrop-In Activity\nAges: 3-10\nCost: $3 per individual/$5 for 2 individuals\nLocation: 1994 Cromwell Bridge Road    (inside of the greenhouse)
URL:https://talmar.org/event/thanksgiving-crafts-for-kids/
LOCATION:MD
END:VEVENT
BEGIN:VEVENT
DTSTART;TZID=America/New_York:20191019T120000
DTEND;TZID=America/New_York:20191019T140000
DTSTAMP:20260421T180409
CREATED:20190901T113145Z
LAST-MODIFIED:20190901T115834Z
UID:4096-1571486400-1571493600@talmar.org
SUMMARY:Taming Your Inner Dragon: Using Complementary Medicine to Manage Anxiety & Stress
DESCRIPTION:Dr. Janice Campbell will discuss the use of complementary medicine in managing anxiety\, PTSD\, and other illnesses in children and adults. Workshop participants will learn tools for self-care. \nAbout the facilitator: Dr. Campbell is the Director of Clinical Education at Maryland University of Integrative Health and Acupuncturist at Balance Point Wellness\, LLC.  Her practice is centered around addressing the stress/trauma/PTSD spectrum and how it plays out in our bodies\, minds and hearts. \nTo register: call 410-825-2020  OR email: tanyaray@talmar.org\nRegistration closes October 11\, 2019
URL:https://talmar.org/event/tame-your-inner-dragon-using-complementart-medicine-to-manage-anxiety-stress/
LOCATION:TALMAR\, 1994 Cromwell Bridge Rd\, Baltimore\, MD\, 21234\, United States
CATEGORIES:Workshop
ATTACH;FMTTYPE=image/jpeg:https://talmar.org/wp-content/uploads/2019/09/stree.jpg
END:VEVENT
BEGIN:VEVENT
DTSTART;TZID=America/New_York:20191019T100000
DTEND;TZID=America/New_York:20191019T120000
DTSTAMP:20260421T180409
CREATED:20190906T191919Z
LAST-MODIFIED:20190906T191919Z
UID:4120-1571479200-1571486400@talmar.org
SUMMARY:Seed Saving Workshop
DESCRIPTION:Seed Saving– Learn to preserve your favorite varieties of vegetables and flowers while saving money in the process. In this hands-on  workshop you will learn to collect\, process\, store\, and germinate your own seeds.
URL:https://talmar.org/event/seed-saving-workshop/
LOCATION:TALMAR\, 1994 Cromwell Bridge Rd\, Baltimore\, MD\, 21234\, United States
CATEGORIES:Class,Workshop
END:VEVENT
BEGIN:VEVENT
DTSTART;TZID=America/New_York:20191016T170000
DTEND;TZID=America/New_York:20191016T200000
DTSTAMP:20260421T180409
CREATED:20190901T112513Z
LAST-MODIFIED:20190917T145518Z
UID:4093-1571245200-1571256000@talmar.org
SUMMARY:Chick-fil-A Spirit Night
DESCRIPTION:Grab dinner at Chick-fil-A and help TALMAR at the same time! At the time of purchase\, let the cashier know that you are there for “Spirit Night” and TALMAR receives 20% of the sale.
URL:https://talmar.org/event/chick-fil-a-spirit-night/
LOCATION:MD
CATEGORIES:Event
ATTACH;FMTTYPE=image/jpeg:https://talmar.org/wp-content/uploads/2019/09/cfa.jpg
END:VEVENT
BEGIN:VEVENT
DTSTART;TZID=America/New_York:20191012T090000
DTEND;TZID=America/New_York:20191012T100000
DTSTAMP:20260421T180409
CREATED:20190905T161248Z
LAST-MODIFIED:20190905T161248Z
UID:4116-1570870800-1570874400@talmar.org
SUMMARY:Yoga on the Farm with Katie (for adults)
DESCRIPTION:Enjoy a 1 hour yoga session on the farm with Katie O’Maily. Katie specializes in trauma-sensitive yoga for people of all ages and abilities. Bring a towel or mat and water.  For ages 18+
URL:https://talmar.org/event/yoga-on-the-farm-with-katie-for-adults/
LOCATION:TALMAR\, 1994 Cromwell Bridge Rd\, Baltimore\, MD\, 21234\, United States
CATEGORIES:Class
END:VEVENT
BEGIN:VEVENT
DTSTART;TZID=America/New_York:20190914T130000
DTEND;TZID=America/New_York:20190914T133000
DTSTAMP:20260421T180409
CREATED:20190901T105031Z
LAST-MODIFIED:20190901T121223Z
UID:4080-1568466000-1568467800@talmar.org
SUMMARY:SAVERS Fundrive
DESCRIPTION:Doing end-of-summer cleaning?  Donate your unwanted clothes\, shoes\, and small housegoods to Savers and TALMAR will benefit. \nDrop off items at SAVERS September 14 at 1:15p
URL:https://talmar.org/event/savers-fundrive-2/
LOCATION:SAVERS\, 1925 E Joppa Rd\,\, Parkville\, Maryland\, 21234\, United States
CATEGORIES:Event
ATTACH;FMTTYPE=image/jpeg:https://talmar.org/wp-content/uploads/2019/09/saverspic.jpg
END:VEVENT
BEGIN:VEVENT
DTSTART;TZID=America/New_York:20190908T100000
DTEND;TZID=America/New_York:20190908T160000
DTSTAMP:20260421T180409
CREATED:20190901T111258Z
LAST-MODIFIED:20190901T120100Z
UID:4084-1567936800-1567958400@talmar.org
SUMMARY:The Parkville Fair
DESCRIPTION:Visit TALMAR at the 35th Annual Parkville Fair. We’ll have plants for sale and information about our services.
URL:https://talmar.org/event/the-parkville-fair/
LOCATION:Putty Hill Shopping Center\, 2532 Putty Hill Road\, Parkville\, MD\, 21234\, United States
CATEGORIES:Event
ATTACH;FMTTYPE=image/jpeg:https://talmar.org/wp-content/uploads/2019/09/67935217_10156461974898225_2842810291689881600_n.jpg
END:VEVENT
BEGIN:VEVENT
DTSTART;TZID=America/New_York:20190826T090000
DTEND;TZID=America/New_York:20190830T150000
DTSTAMP:20260421T180409
CREATED:20190611T033428Z
LAST-MODIFIED:20190611T033428Z
UID:3698-1566810000-1567177200@talmar.org
SUMMARY:Farm & Garden Adventures
DESCRIPTION:Campers plant flowers\, feed farm animals\, weed gardens and harvest vegetables. The cost for a half-day session (9am-12pm) is $125 per person; the cost for a full-day session (9am-3pm) is $250.
URL:https://talmar.org/event/farm-garden-adventures/
LOCATION:MD
CATEGORIES:Class
END:VEVENT
BEGIN:VEVENT
DTSTART;TZID=America/New_York:20190812T090000
DTEND;TZID=America/New_York:20190816T150000
DTSTAMP:20260421T180409
CREATED:20190611T033326Z
LAST-MODIFIED:20190611T033444Z
UID:3696-1565600400-1565967600@talmar.org
SUMMARY:Green Day Camp
DESCRIPTION:The participants will learn the importance of conserving and protecting the environment.The cost for a half-day session (9am-12pm) is $125 per person; the cost for a full-day session (9am-3pm) is $250.  
URL:https://talmar.org/event/green-day-camp/
LOCATION:MD
CATEGORIES:Class
END:VEVENT
BEGIN:VEVENT
DTSTART;TZID=America/New_York:20190810T080000
DTEND;TZID=America/New_York:20190810T130000
DTSTAMP:20260421T180409
CREATED:20190709T041134Z
LAST-MODIFIED:20190805T181515Z
UID:4057-1565424000-1565442000@talmar.org
SUMMARY:TALMAR Farmer's Market
DESCRIPTION:
URL:https://talmar.org/event/talmar-farmers-market-2-2/
LOCATION:TALMAR\, 1994 Cromwell Bridge Rd\, Baltimore\, MD\, 21234\, United States
CATEGORIES:CSA Pickup
END:VEVENT
END:VCALENDAR