BEGIN:VCALENDAR
VERSION:2.0
PRODID:-//TALMAR - ECPv6.15.20//NONSGML v1.0//EN
CALSCALE:GREGORIAN
METHOD:PUBLISH
X-ORIGINAL-URL:https://talmar.org
X-WR-CALDESC:Events for TALMAR
REFRESH-INTERVAL;VALUE=DURATION:PT1H
X-Robots-Tag:noindex
X-PUBLISHED-TTL:PT1H
BEGIN:VTIMEZONE
TZID:America/New_York
BEGIN:DAYLIGHT
TZOFFSETFROM:-0500
TZOFFSETTO:-0400
TZNAME:EDT
DTSTART:20220313T070000
END:DAYLIGHT
BEGIN:STANDARD
TZOFFSETFROM:-0400
TZOFFSETTO:-0500
TZNAME:EST
DTSTART:20221106T060000
END:STANDARD
BEGIN:DAYLIGHT
TZOFFSETFROM:-0500
TZOFFSETTO:-0400
TZNAME:EDT
DTSTART:20230312T070000
END:DAYLIGHT
BEGIN:STANDARD
TZOFFSETFROM:-0400
TZOFFSETTO:-0500
TZNAME:EST
DTSTART:20231105T060000
END:STANDARD
BEGIN:DAYLIGHT
TZOFFSETFROM:-0500
TZOFFSETTO:-0400
TZNAME:EDT
DTSTART:20240310T070000
END:DAYLIGHT
BEGIN:STANDARD
TZOFFSETFROM:-0400
TZOFFSETTO:-0500
TZNAME:EST
DTSTART:20241103T060000
END:STANDARD
BEGIN:DAYLIGHT
TZOFFSETFROM:-0500
TZOFFSETTO:-0400
TZNAME:EDT
DTSTART:20250309T070000
END:DAYLIGHT
BEGIN:STANDARD
TZOFFSETFROM:-0400
TZOFFSETTO:-0500
TZNAME:EST
DTSTART:20251102T060000
END:STANDARD
BEGIN:DAYLIGHT
TZOFFSETFROM:-0500
TZOFFSETTO:-0400
TZNAME:EDT
DTSTART:20260308T070000
END:DAYLIGHT
BEGIN:STANDARD
TZOFFSETFROM:-0400
TZOFFSETTO:-0500
TZNAME:EST
DTSTART:20261101T060000
END:STANDARD
BEGIN:DAYLIGHT
TZOFFSETFROM:-0500
TZOFFSETTO:-0400
TZNAME:EDT
DTSTART:20270314T070000
END:DAYLIGHT
BEGIN:STANDARD
TZOFFSETFROM:-0400
TZOFFSETTO:-0500
TZNAME:EST
DTSTART:20271107T060000
END:STANDARD
END:VTIMEZONE
BEGIN:VEVENT
DTSTART;TZID=America/New_York:20230915T110000
DTEND;TZID=America/New_York:20230915T120000
DTSTAMP:20260421T174830
CREATED:20230829T173635Z
LAST-MODIFIED:20230829T173635Z
UID:5007-1694775600-1694779200@talmar.org
SUMMARY:Memory Cafe
DESCRIPTION:A nature-based program for people with memory loss related to dementia\, Alzheimer’s\, Parkinsons or other diseases that effect memory. Led by TALMAR’s Occupational Therapist in partnership with the Baltimore County Department of Aging. Free for participants and their care givers. Activities vary based on season\, weather\, and the like. Program operates rain or shine. Register in advance at: https://forms.gle/hTTs1tVWYxEKFBQn7.
URL:https://talmar.org/event/memory-cafe/
LOCATION:TALMAR\, 1994 Cromwell Bridge Rd\, Baltimore\, MD\, 21234\, United States
END:VEVENT
BEGIN:VEVENT
DTSTART;TZID=America/New_York:20230918T090000
DTEND;TZID=America/New_York:20230918T120000
DTSTAMP:20260421T174830
CREATED:20230829T113737Z
LAST-MODIFIED:20230829T113737Z
UID:4992-1695027600-1695038400@talmar.org
SUMMARY:UWCM and Ravens CAW to Action
DESCRIPTION:Join the United Way of Central Maryland and Ravens’ Flock to volunteer at TALMAR altogether on Monday\, September 18th. Sign up through UWCM here: https://www.volunteermd.org/need/detail/?need_id=835755
URL:https://talmar.org/event/uwcm-and-ravens-caw-to-action/
LOCATION:TALMAR\, 1994 Cromwell Bridge Rd\, Baltimore\, MD\, 21234\, United States
END:VEVENT
BEGIN:VEVENT
DTSTART;TZID=America/New_York:20230920T160000
DTEND;TZID=America/New_York:20230920T220000
DTSTAMP:20260421T174830
CREATED:20230829T114445Z
LAST-MODIFIED:20230829T114445Z
UID:4994-1695225600-1695247200@talmar.org
SUMMARY:TALMAR Pint Night at Union Craft Brewing
DESCRIPTION:Hang out with TALMAR staff\, volunteers\, and participants in Baltimore’s Union Craft Brewing. Union and its in-house restaurant partner\, Carroll & Sons Fine Foods will donate a % of all sales to TALMAR on Wednesday\, September 20 from 4-10. The Union crew is ready to assist folks who are new to brewery visits and you can grab a sit inside (where the music is) or outside in the beer garden for a more relaxed evening. TALMAR’s 2023 raw honey will be available for sale.
URL:https://talmar.org/event/talmar-pint-night-at-union-craft-brewing/
LOCATION:Union Craft Brewing\, 1700 west 41st St. Ste 420\, Baltimore\, MD\, 21211\, United States
END:VEVENT
BEGIN:VEVENT
DTSTART;TZID=America/New_York:20230921T160000
DTEND;TZID=America/New_York:20230921T203000
DTSTAMP:20260421T174830
CREATED:20230829T120028Z
LAST-MODIFIED:20230829T120028Z
UID:4997-1695312000-1695328200@talmar.org
SUMMARY:Board of Directors meeting
DESCRIPTION:Interested in getting more involved with TALMAR? The September board meeting will be two-part: volunteer on the farm from 4-6\, then get down to business 6:30-8. Participants\, family members\, volunteers and community members all welcome. Please email talmar@talmar.org if you plan to come so we ensure enough meeting space and snacks.
URL:https://talmar.org/event/board-of-directors-meeting/
LOCATION:TALMAR\, 1994 Cromwell Bridge Rd\, Baltimore\, MD\, 21234\, United States
END:VEVENT
BEGIN:VEVENT
DTSTART;TZID=America/New_York:20231021T160000
DTEND;TZID=America/New_York:20231021T180000
DTSTAMP:20260421T174830
CREATED:20230829T120340Z
LAST-MODIFIED:20230829T120340Z
UID:4999-1697904000-1697911200@talmar.org
SUMMARY:Pizza Party!
DESCRIPTION:This year we planted a 6\,000 square foot pizza! The field is round\, divided into wedges\, and surrounded by 900 sq. ft of wheat. What’s the best way to celebrate harvesting the tomatoes\, basil\, onions\, peppers\, and eggplant this fall– by eating them! Join us on Saturday\, October 21 from 4-6 for made-to-order pizza. \nSponsorship opportunities available.
URL:https://talmar.org/event/pizza-party/
LOCATION:TALMAR\, 1994 Cromwell Bridge Rd\, Baltimore\, MD\, 21234\, United States
END:VEVENT
BEGIN:VEVENT
DTSTART;TZID=America/New_York:20231026T110000
DTEND;TZID=America/New_York:20231026T140000
DTSTAMP:20260421T174830
CREATED:20230829T121414Z
LAST-MODIFIED:20230829T121414Z
UID:5001-1698318000-1698328800@talmar.org
SUMMARY:VA FARMS graduation
DESCRIPTION:Graduates from TALMAR’s VA FARMS program are invited back to campus for a resource fair followed by the graduation of ten veterans from our Advanced Session. \nSponsorships for resource fair available.
URL:https://talmar.org/event/va-farms-graduation/
LOCATION:MD
END:VEVENT
BEGIN:VEVENT
DTSTART;TZID=America/New_York:20231202T110000
DTEND;TZID=America/New_York:20231202T130000
DTSTAMP:20260421T174830
CREATED:20230829T122427Z
LAST-MODIFIED:20230829T122427Z
UID:5005-1701514800-1701522000@talmar.org
SUMMARY:Visit Santa in a low-sensory environment
DESCRIPTION:Meet Santa in a low-sensory environment. Families are invited to meet Santa in a wheelchair accessible farmhouse. Santa and his helper ask people to reserve a (free) ticket to ensure peace and quiet on your visit. \nTickets available here.
URL:https://talmar.org/event/visit-santa-in-a-low-sensory-environment/
LOCATION:TALMAR\, 1994 Cromwell Bridge Rd\, Baltimore\, MD\, 21234\, United States
END:VEVENT
BEGIN:VEVENT
DTSTART;TZID=America/New_York:20231205T100000
DTEND;TZID=America/New_York:20231223T160000
DTSTAMP:20260421T174830
CREATED:20230829T121817Z
LAST-MODIFIED:20231204T194842Z
UID:5003-1701770400-1703347200@talmar.org
SUMMARY:Christmas Tree sale
DESCRIPTION:Our Christmas Trees are now available weekdays 10-4. Self-serve options available on the weekend. We have fresh cut fraser firs\, wreathes\, and handmade gifts.
URL:https://talmar.org/event/christmas-tree-sale-2/
LOCATION:MD
END:VEVENT
BEGIN:VEVENT
DTSTART;TZID=America/New_York:20240614T173000
DTEND;TZID=America/New_York:20240614T183000
DTSTAMP:20260421T174830
CREATED:20240611T145615Z
LAST-MODIFIED:20240611T145615Z
UID:5046-1718386200-1718389800@talmar.org
SUMMARY:Thanks S'More
DESCRIPTION:
URL:https://talmar.org/event/thanks-smore/
LOCATION:TALMAR\, 1994 Cromwell Bridge Rd\, Baltimore\, MD\, 21234\, United States
END:VEVENT
BEGIN:VEVENT
DTSTART;TZID=America/New_York:20241130T100000
DTEND;TZID=America/New_York:20241130T170000
DTSTAMP:20260421T174830
CREATED:20241201T112645Z
LAST-MODIFIED:20241201T112645Z
UID:5141-1732960800-1732986000@talmar.org
SUMMARY:Christmas Tree Sale
DESCRIPTION:TALMAR”s annual Christmas Tree will be open November 30-December 1 and the following weekend\, December 7-8 from 10am-5pm. Cash\, check\, credit\, Venmo and Zelle accepted.
URL:https://talmar.org/event/christmas-tree-sale-3/
LOCATION:TALMAR\, 1994 Cromwell Bridge Rd\, Baltimore\, MD\, 21234\, United States
CATEGORIES:Event
END:VEVENT
BEGIN:VEVENT
DTSTART;TZID=America/New_York:20241201T100000
DTEND;TZID=America/New_York:20241201T170000
DTSTAMP:20260421T174830
CREATED:20241201T112850Z
LAST-MODIFIED:20241213T172231Z
UID:5143-1733047200-1733072400@talmar.org
SUMMARY:Annual Christmas Tree Sale
DESCRIPTION:TALMAR”s annual Christmas Tree will be open November 30-December 1 and the following weekend\, December 7-8 from 10am-5pm. Cash\, check\, credit\, Venmo and Zelle accepted.
URL:https://talmar.org/event/annual-christmas-tree-sale/
LOCATION:TALMAR\, 1994 Cromwell Bridge Rd\, Baltimore\, MD\, 21234\, United States
CATEGORIES:Event
END:VEVENT
BEGIN:VEVENT
DTSTART;TZID=America/New_York:20241207T100000
DTEND;TZID=America/New_York:20241207T170000
DTSTAMP:20260421T174830
CREATED:20241201T113023Z
LAST-MODIFIED:20241213T172252Z
UID:5145-1733565600-1733590800@talmar.org
SUMMARY:Annual Christmas Tree Sale
DESCRIPTION:TALMAR”s annual Christmas Tree will be open November 30-December 1 and the following weekend\, December 7-8 from 10am-5pm. Cash\, check\, credit\, Venmo and Zelle accepted.
URL:https://talmar.org/event/annual-christmas-tree-sale-2/
LOCATION:TALMAR\, 1994 Cromwell Bridge Rd\, Baltimore\, MD\, 21234\, United States
CATEGORIES:Event
END:VEVENT
BEGIN:VEVENT
DTSTART;TZID=America/New_York:20241208T100000
DTEND;TZID=America/New_York:20241208T170000
DTSTAMP:20260421T174830
CREATED:20241201T113054Z
LAST-MODIFIED:20241213T172304Z
UID:5147-1733652000-1733677200@talmar.org
SUMMARY:Annual Christmas Tree Sale
DESCRIPTION:TALMAR”s annual Christmas Tree will be open November 30-December 1 and the following weekend\, December 7-8 from 10am-5pm. Cash\, check\, credit\, Venmo and Zelle accepted.
URL:https://talmar.org/event/annual-christmas-tree-sale-3/
LOCATION:MD
CATEGORIES:Event
END:VEVENT
BEGIN:VEVENT
DTSTART;VALUE=DATE:20241214
DTEND;VALUE=DATE:20241216
DTSTAMP:20260421T174830
CREATED:20241213T172056Z
LAST-MODIFIED:20241213T172056Z
UID:5156-1734134400-1734307199@talmar.org
SUMMARY:self-serve Christmas trees
DESCRIPTION:TALMAR does not have staff on-site\, but fraser fir Christmas trees are available for self-service using the honor system. Checks\, venmo\, zelle (talmar@talmar.org) accepted.
URL:https://talmar.org/event/self-serve-christmas-trees/
LOCATION:TALMAR\, 1994 Cromwell Bridge Rd\, Baltimore\, MD\, 21234\, United States
CATEGORIES:Event
END:VEVENT
BEGIN:VEVENT
DTSTART;VALUE=DATE:20250501
DTEND;VALUE=DATE:20250510
DTSTAMP:20260421T174830
CREATED:20250501T170743Z
LAST-MODIFIED:20250501T170743Z
UID:5194-1746057600-1746835199@talmar.org
SUMMARY:Spring seedling sale
DESCRIPTION:Seedlings are available to pre-order at https://talmar.square.site/s/shop or shop in person Friday\, May 9th from 4-6.
URL:https://talmar.org/event/spring-seedling-sale/
LOCATION:TALMAR\, 1994 Cromwell Bridge Rd\, Baltimore\, MD\, 21234\, United States
END:VEVENT
BEGIN:VEVENT
DTSTART;VALUE=DATE:20250506
DTEND;VALUE=DATE:20250510
DTSTAMP:20260421T174830
CREATED:20250430T185802Z
LAST-MODIFIED:20250430T185802Z
UID:5191-1746489600-1746835199@talmar.org
SUMMARY:online baked goods auction
DESCRIPTION:What makes early May (and Mother’s Day) sweet? Baked treats and new plants! Treat yourself (or mom!) with something sweet on the unofficial “frost-free” date in central Maryland (meaning you can plant tomatoes\, peppers\, and other frost-sensitive plants). \nBid on delicious treats here: https://new.biddingowl.com/TALMARONLINEDESSERTAUCTION \nSeedlings\, herbal teas and honey\, and other odds and ends will be available Friday May 9th between 4-6 so you can do some shopping while you get your goods!
URL:https://talmar.org/event/online-baked-goods-auction/
LOCATION:TALMAR\, 1994 Cromwell Bridge Rd\, Baltimore\, MD\, 21234\, United States
END:VEVENT
BEGIN:VEVENT
DTSTART;TZID=America/New_York:20260108T110000
DTEND;TZID=America/New_York:20260108T120000
DTSTAMP:20260421T174830
CREATED:20251230T011910Z
LAST-MODIFIED:20251230T011910Z
UID:5275-1767870000-1767873600@talmar.org
SUMMARY:Art class
DESCRIPTION:Accessible art class for budding artists covers introductory techniques based on seasonal themes around the farm.
URL:https://talmar.org/event/art-class/
LOCATION:TALMAR\, 1994 Cromwell Bridge Rd\, Baltimore\, MD\, 21234\, United States
END:VEVENT
END:VCALENDAR