BEGIN:VCALENDAR
VERSION:2.0
PRODID:-//TALMAR - ECPv6.15.20//NONSGML v1.0//EN
CALSCALE:GREGORIAN
METHOD:PUBLISH
X-WR-CALNAME:TALMAR
X-ORIGINAL-URL:https://talmar.org
X-WR-CALDESC:Events for TALMAR
REFRESH-INTERVAL;VALUE=DURATION:PT1H
X-Robots-Tag:noindex
X-PUBLISHED-TTL:PT1H
BEGIN:VTIMEZONE
TZID:America/New_York
BEGIN:DAYLIGHT
TZOFFSETFROM:-0500
TZOFFSETTO:-0400
TZNAME:EDT
DTSTART:20180311T070000
END:DAYLIGHT
BEGIN:STANDARD
TZOFFSETFROM:-0400
TZOFFSETTO:-0500
TZNAME:EST
DTSTART:20181104T060000
END:STANDARD
BEGIN:DAYLIGHT
TZOFFSETFROM:-0500
TZOFFSETTO:-0400
TZNAME:EDT
DTSTART:20190310T070000
END:DAYLIGHT
BEGIN:STANDARD
TZOFFSETFROM:-0400
TZOFFSETTO:-0500
TZNAME:EST
DTSTART:20191103T060000
END:STANDARD
BEGIN:DAYLIGHT
TZOFFSETFROM:-0500
TZOFFSETTO:-0400
TZNAME:EDT
DTSTART:20200308T070000
END:DAYLIGHT
BEGIN:STANDARD
TZOFFSETFROM:-0400
TZOFFSETTO:-0500
TZNAME:EST
DTSTART:20201101T060000
END:STANDARD
END:VTIMEZONE
BEGIN:VEVENT
DTSTART;TZID=America/New_York:20190810T080000
DTEND;TZID=America/New_York:20190810T130000
DTSTAMP:20260421T213927
CREATED:20190709T041134Z
LAST-MODIFIED:20190805T181515Z
UID:4057-1565424000-1565442000@talmar.org
SUMMARY:TALMAR Farmer's Market
DESCRIPTION:
URL:https://talmar.org/event/talmar-farmers-market-2-2/
LOCATION:TALMAR\, 1994 Cromwell Bridge Rd\, Baltimore\, MD\, 21234\, United States
CATEGORIES:CSA Pickup
END:VEVENT
BEGIN:VEVENT
DTSTART;TZID=America/New_York:20190808T104500
DTEND;TZID=America/New_York:20190808T150000
DTSTAMP:20260421T213927
CREATED:20190709T040308Z
LAST-MODIFIED:20190805T181643Z
UID:4059-1565261100-1565276400@talmar.org
SUMMARY:Towson Farmer's Market
DESCRIPTION:
URL:https://talmar.org/event/towson-farmers-market-2-2/
LOCATION:Towson Farmer’s Market\, Pennsylvania Ave and Washington Ave\, Towson\, MD\, 21204\, United States
CATEGORIES:CSA Pickup
END:VEVENT
BEGIN:VEVENT
DTSTART;TZID=America/New_York:20190720T080000
DTEND;TZID=America/New_York:20190720T130000
DTSTAMP:20260421T213927
CREATED:20190709T041134Z
LAST-MODIFIED:20190709T041630Z
UID:4046-1563609600-1563627600@talmar.org
SUMMARY:TALMAR Farmer's Market
DESCRIPTION:
URL:https://talmar.org/event/talmar-farmers-market-2/
LOCATION:TALMAR\, 1994 Cromwell Bridge Rd\, Baltimore\, MD\, 21234\, United States
CATEGORIES:CSA Pickup
END:VEVENT
BEGIN:VEVENT
DTSTART;TZID=America/New_York:20190718T104500
DTEND;TZID=America/New_York:20190718T150000
DTSTAMP:20260421T213927
CREATED:20190709T040308Z
LAST-MODIFIED:20190709T041716Z
UID:4048-1563446700-1563462000@talmar.org
SUMMARY:Towson Farmer's Market
DESCRIPTION:
URL:https://talmar.org/event/towson-farmers-market-2/
LOCATION:Towson Farmer’s Market\, Pennsylvania Ave and Washington Ave\, Towson\, MD\, 21204\, United States
CATEGORIES:CSA Pickup
END:VEVENT
BEGIN:VEVENT
DTSTART;TZID=America/New_York:20190713T080000
DTEND;TZID=America/New_York:20190713T130000
DTSTAMP:20260421T213927
CREATED:20190709T041134Z
LAST-MODIFIED:20190709T041528Z
UID:4044-1563004800-1563022800@talmar.org
SUMMARY:TALMAR Farmer's Market
DESCRIPTION:
URL:https://talmar.org/event/talmar-farmers-market/
LOCATION:TALMAR\, 1994 Cromwell Bridge Rd\, Baltimore\, MD\, 21234\, United States
CATEGORIES:CSA Pickup
END:VEVENT
BEGIN:VEVENT
DTSTART;TZID=America/New_York:20190711T104500
DTEND;TZID=America/New_York:20190711T150000
DTSTAMP:20260421T213927
CREATED:20190709T040308Z
LAST-MODIFIED:20190709T041217Z
UID:4041-1562841900-1562857200@talmar.org
SUMMARY:Towson Farmer's Market
DESCRIPTION:
URL:https://talmar.org/event/towson-farmers-market/
LOCATION:Towson Farmer’s Market\, Pennsylvania Ave and Washington Ave\, Towson\, MD\, 21204\, United States
CATEGORIES:CSA Pickup
END:VEVENT
END:VCALENDAR