BEGIN:VCALENDAR
VERSION:2.0
PRODID:-//TALMAR - ECPv6.15.20//NONSGML v1.0//EN
CALSCALE:GREGORIAN
METHOD:PUBLISH
X-WR-CALNAME:TALMAR
X-ORIGINAL-URL:https://talmar.org
X-WR-CALDESC:Events for TALMAR
REFRESH-INTERVAL;VALUE=DURATION:PT1H
X-Robots-Tag:noindex
X-PUBLISHED-TTL:PT1H
BEGIN:VTIMEZONE
TZID:America/New_York
BEGIN:DAYLIGHT
TZOFFSETFROM:-0500
TZOFFSETTO:-0400
TZNAME:EDT
DTSTART:20220313T070000
END:DAYLIGHT
BEGIN:STANDARD
TZOFFSETFROM:-0400
TZOFFSETTO:-0500
TZNAME:EST
DTSTART:20221106T060000
END:STANDARD
BEGIN:DAYLIGHT
TZOFFSETFROM:-0500
TZOFFSETTO:-0400
TZNAME:EDT
DTSTART:20230312T070000
END:DAYLIGHT
BEGIN:STANDARD
TZOFFSETFROM:-0400
TZOFFSETTO:-0500
TZNAME:EST
DTSTART:20231105T060000
END:STANDARD
BEGIN:DAYLIGHT
TZOFFSETFROM:-0500
TZOFFSETTO:-0400
TZNAME:EDT
DTSTART:20240310T070000
END:DAYLIGHT
BEGIN:STANDARD
TZOFFSETFROM:-0400
TZOFFSETTO:-0500
TZNAME:EST
DTSTART:20241103T060000
END:STANDARD
END:VTIMEZONE
BEGIN:VEVENT
DTSTART;TZID=America/New_York:20230921T160000
DTEND;TZID=America/New_York:20230921T203000
DTSTAMP:20260421T110111
CREATED:20230829T120028Z
LAST-MODIFIED:20230829T120028Z
UID:4997-1695312000-1695328200@talmar.org
SUMMARY:Board of Directors meeting
DESCRIPTION:Interested in getting more involved with TALMAR? The September board meeting will be two-part: volunteer on the farm from 4-6\, then get down to business 6:30-8. Participants\, family members\, volunteers and community members all welcome. Please email talmar@talmar.org if you plan to come so we ensure enough meeting space and snacks.
URL:https://talmar.org/event/board-of-directors-meeting/
LOCATION:TALMAR\, 1994 Cromwell Bridge Rd\, Baltimore\, MD\, 21234\, United States
END:VEVENT
END:VCALENDAR